BEGIN:VCALENDAR
VERSION:2.0
PRODID:-//eventon.com NONSGML v1.0//EN
BEGIN:VEVENT
UID:69eb2dba3fcae
DTSTAMP:20260424T084546
DTSTART:20240901T103000Z
DTEND:20240901T130000Z
LOCATION:
SUMMARY:Is Handwriting Your Mindset ECG ?
DESCRIPTION: Meeting No 200 | Sunday\,  September 1\,  2024 200th Meeting Exclusive A Workshop On Graphology. The Facilitator - Ms. Priyanka Agarwal | Certified Graphologist | Psychologist | Human Resources Fun Filled Meeting Engagement: • Speeches • Activities • Quizzes • Interactions Fun Filled Session Takeaways: • What is graphology ?[..]
END:VEVENT
END:VCALENDAR