BEGIN:VCALENDAR
VERSION:2.0
PRODID:-//eventon.com NONSGML v1.0//EN
BEGIN:VEVENT
UID:69e6356fe73a3
DTSTAMP:20260420T141719
DTSTART:20240721T103000Z
DTEND:20240721T130000Z
LOCATION:
SUMMARY:Decoding BNS \,  Bhartiya Nyaya Sanhita
DESCRIPTION: Meeting No 197 | Sunday\,  July 21\,  2024 In conversation with Ms. Sonia Shandilya Advocate Rajasthan High Court Meeting Attraction: • Geeta Shloka • Debate • Interview • Quiz • Impromptu
END:VEVENT
END:VCALENDAR