BEGIN:VCALENDAR
VERSION:2.0
PRODID:-//eventon.com NONSGML v1.0//EN
BEGIN:VEVENT
UID:69e91cc73313b
DTSTAMP:20260422T190855
DTSTART:20210704T103000Z
DTEND:20210704T130000Z
LOCATION:
SUMMARY:Passion & Profession
DESCRIPTION: with Ms. Roopa Somasundaran - Lawyer\,  Author\,  RJ\,  Yoga Instructor\,  Model\,  Social Activist\,  Bhartanatyam and Jive Dancer.
END:VEVENT
END:VCALENDAR