BEGIN:VCALENDAR
VERSION:2.0
PRODID:-//eventon.com NONSGML v1.0//EN
BEGIN:VEVENT
UID:69e71e97083b7
DTSTAMP:20260421T065207
DTSTART:20200920T103000Z
DTEND:20200920T130000Z
LOCATION:
SUMMARY:Bridging The Gap
DESCRIPTION: In Conversation with Mr. Gaurav Dixit - Founder Director “Foresee”.
END:VEVENT
END:VCALENDAR